BEGIN:VCALENDAR
VERSION:2.0
PRODID:-//Saalfelden-Leogang.com//NONSGML kigkonsult.se iCalcreator 2.22.1/
 /EN
METHOD:PUBLISH
X-WR-CALNAME;LANGUAGE=en:Saalfelden-Leogang.com
X-WR-CALDESC;LANGUAGE=en:Saalfelden-Leogang.com
X-WR-TIMEZONE;LANGUAGE=en:Europe/Berlin
BEGIN:VEVENT
UID:20260421T140044CEST-3283UuaGpp@Saalfelden-Leogang.com
DTSTAMP:20260421T120044Z
DESCRIPTION;LANGUAGE=en:Austria\, UK\, Germany\, Portugal\n\n\n\nLukas Kran
 zelbinder - bass\n\nAnna Tsombanis - saxophone \n\nLukas Kranzelbinder - b
 ass \n\nPedro Melo Alves - drums\n\n\n\nWe hike Jazz - Leogang\n\nStart at
  9 a.m. (end approx. 2 pm)\n\nMeeting point and start: Steinbergbahn valle
 y station\n\nTicket: 55 € per person\, available exclusively from the Jazz
  Ticketshop - includes ascent and descent on the Steinbergbahn cable car &
  samples of local produce (sausage\, cheese\, bread and drinks) - SOLD OUT
 ! \n\n\n\nFor many years\, Austrian bassist and composer Lukas Kranzelbind
 er (Shake Stew\, Mario Rom's Interzone) has been hiking up various peaks a
 nd high-altitude trails together with the audience in search of a sound th
 at is open in all directions and gives the mountain a new musical facet as
  a place of tradition. For the first day of the festival\, he has put toge
 ther an international all-star group as musical mountain guides who will p
 rovide the audience with a sound experience in a unique setting. The first
  metres in altitude are conquered with the Steinbergbahn cable car\, then 
 the route leads over the small and large Asitz to the Naturkino. A jazz co
 ncert and a good snack await the participants there.\n\n\n\nSturdy footwea
 r and hiking clothing suitable for the weather are recommended.\n\nHiking 
 route (4.6 km\, 181 m ascent\, 157 m descent)\n\n\n\nFind information abou
 t the nature cinema here.\n\nOnly in good weather\, in bad weather the con
 cert will be moved to the Leogang Mining and Gothic Museum.\n\n\n\nThose w
 ho wish can take the shared cab from the Kunsthaus Nexus and back again af
 terwards - departure is here at 08.30 am. Prior registration by August 8 a
 t the latest at carmen.stoeckl@saalfelden-leogang.at\, Tel. +43 / (0) 6582
  / 70660-11 is mandatory here!
DTSTART:20250821T070000Z
DTEND:20250821T110000Z
LOCATION;LANGUAGE=en:Naturkino Asitz
SUMMARY;LANGUAGE=en:WE HIKE JAZZ Naturkino
END:VEVENT
END:VCALENDAR
